BEGIN:VCALENDAR
VERSION:2.0
PRODID:-//Wylder Hotels - ECPv5.14.0.4//NONSGML v1.0//EN
CALSCALE:GREGORIAN
METHOD:PUBLISH
X-WR-CALNAME:Wylder Hotels
X-ORIGINAL-URL:https://wylderhotels.com
X-WR-CALDESC:Events for Wylder Hotels
REFRESH-INTERVAL;VALUE=DURATION:PT1H
X-Robots-Tag:noindex
X-PUBLISHED-TTL:PT1H
BEGIN:VTIMEZONE
TZID:America/Los_Angeles
BEGIN:DAYLIGHT
TZOFFSETFROM:-0800
TZOFFSETTO:-0700
TZNAME:PDT
DTSTART:20260308T100000
END:DAYLIGHT
BEGIN:STANDARD
TZOFFSETFROM:-0700
TZOFFSETTO:-0800
TZNAME:PST
DTSTART:20261101T090000
END:STANDARD
END:VTIMEZONE
BEGIN:VEVENT
DTSTART;VALUE=DATE:20260424
DTEND;VALUE=DATE:20260426
DTSTAMP:20260424T030441
CREATED:20260416T110025Z
LAST-MODIFIED:20260416T110120Z
UID:19219-1776988800-1777161599@wylderhotels.com
SUMMARY:Closed for Private Event
DESCRIPTION:Wylder Hotel Tilghman Island & Tickler’s Crab Shack will be CLOSED for a Private Event this date. \nWe will be open all other dates for our normally scheduled hours.
URL:https://wylderhotels.com/event/closed-for-private-event/2026-04-24/
LOCATION:MD
CATEGORIES:Tilghman Island
ATTACH;FMTTYPE=image/jpeg:https://wylderhotels.com/wp-content/uploads/2021/07/WylderHotelWedding-19.34.35-1.jpg
END:VEVENT
END:VCALENDAR