BEGIN:VCALENDAR
VERSION:2.0
PRODID:-//Wylder Hotels - ECPv5.14.0.4//NONSGML v1.0//EN
CALSCALE:GREGORIAN
METHOD:PUBLISH
X-WR-CALNAME:Wylder Hotels
X-ORIGINAL-URL:https://wylderhotels.com
X-WR-CALDESC:Events for Wylder Hotels
REFRESH-INTERVAL;VALUE=DURATION:PT1H
X-Robots-Tag:noindex
X-PUBLISHED-TTL:PT1H
BEGIN:VTIMEZONE
TZID:America/Los_Angeles
BEGIN:DAYLIGHT
TZOFFSETFROM:-0800
TZOFFSETTO:-0700
TZNAME:PDT
DTSTART:20260308T100000
END:DAYLIGHT
BEGIN:STANDARD
TZOFFSETFROM:-0700
TZOFFSETTO:-0800
TZNAME:PST
DTSTART:20261101T090000
END:STANDARD
END:VTIMEZONE
BEGIN:VEVENT
DTSTART;TZID=America/Los_Angeles:20260131T093000
DTEND;TZID=America/Los_Angeles:20260131T100000
DTSTAMP:20260420T092943
CREATED:20251121T193317Z
LAST-MODIFIED:20251230T130617Z
UID:18641-1769851800-1769853600@wylderhotels.com
SUMMARY:Guided Meditation With Soundbath W/ Becky Losito
DESCRIPTION:Becky is a meditation and yoga guide rooted in the natural rhythms of the northern Catskills\, where she grew up surrounded by forests and wide-open land. Her work is grounded\, intuitive\, and deeply connected to the body and breath. This 30-minute guided meditation is an invitation to slow down\, settle in\, and reconnect with yourself. The practice begins with gentle\, guided breathwork to calm the nervous system and bring the body into the present moment.
URL:https://wylderhotels.com/event/guided-meditation-with-soundbath-9/
CATEGORIES:Windham
ATTACH;FMTTYPE=image/jpeg:https://wylderhotels.com/wp-content/uploads/2025/11/beckylositoyoga-scaled.jpg
END:VEVENT
BEGIN:VEVENT
DTSTART;TZID=America/Los_Angeles:20260131T170000
DTEND;TZID=America/Los_Angeles:20260131T190000
DTSTAMP:20260420T092943
CREATED:20260117T203630Z
LAST-MODIFIED:20260117T203630Z
UID:18969-1769878800-1769886000@wylderhotels.com
SUMMARY:Hatchet Throwing @ Killside
DESCRIPTION:Step up\, aim\, and let it fly! Hatchet throwing at Killside is the ultimate combination of skill\, focus\, and fun. Whether you’re a first-timer or a seasoned thrower\, our expert instructors will ensure everyone has a blast. Come experience the excitement of hitting the target—one throw at a time!
URL:https://wylderhotels.com/event/hatchet-throwing-killside/
CATEGORIES:Windham
END:VEVENT
END:VCALENDAR