BEGIN:VCALENDAR
VERSION:2.0
PRODID:-//Wylder Hotels - ECPv5.14.0.4//NONSGML v1.0//EN
CALSCALE:GREGORIAN
METHOD:PUBLISH
X-WR-CALNAME:Wylder Hotels
X-ORIGINAL-URL:https://wylderhotels.com
X-WR-CALDESC:Events for Wylder Hotels
REFRESH-INTERVAL;VALUE=DURATION:PT1H
X-Robots-Tag:noindex
X-PUBLISHED-TTL:PT1H
BEGIN:VTIMEZONE
TZID:America/Los_Angeles
BEGIN:DAYLIGHT
TZOFFSETFROM:-0800
TZOFFSETTO:-0700
TZNAME:PDT
DTSTART:20260308T100000
END:DAYLIGHT
BEGIN:STANDARD
TZOFFSETFROM:-0700
TZOFFSETTO:-0800
TZNAME:PST
DTSTART:20261101T090000
END:STANDARD
END:VTIMEZONE
BEGIN:VEVENT
DTSTART;TZID=America/Los_Angeles:20260213T173000
DTEND;TZID=America/Los_Angeles:20260213T190000
DTSTAMP:20260422T073543
CREATED:20260124T170611Z
LAST-MODIFIED:20260124T170611Z
UID:18985-1771003800-1771009200@wylderhotels.com
SUMMARY:Westkill Brewing tasting @ Babblers
DESCRIPTION:Join us at Babblers Friday\, February 13th from 5:30pm – 7:30pm to learn about and sample a selection of beers from Westkill Brewing!
URL:https://wylderhotels.com/event/westkill-brewing-tasting-babblers/
CATEGORIES:Windham
END:VEVENT
BEGIN:VEVENT
DTSTART;TZID=America/Los_Angeles:20260213T180000
DTEND;TZID=America/Los_Angeles:20260213T210000
DTSTAMP:20260422T073543
CREATED:20251211T132558Z
LAST-MODIFIED:20251211T132558Z
UID:18693-1771005600-1771016400@wylderhotels.com
SUMMARY:Live Music W/ Joseph James
DESCRIPTION:Joseph James (Vulpis)\, founding member of Joseph James Band\, is a seasoned musician raised in Oceanside and Syosset\, NY. With a career spanning performances in iconic LI and NYC venues\, he has toured\, produced\, and played alongside legends including Lady Gaga\, Bono\, Andrea Bocelli\, and Ritchie Blackmore. A prolific songwriter\, Joe also spent years on Nashville’s Music Row with notable country music credits.
URL:https://wylderhotels.com/event/live-music-w-joseph-james-10/
CATEGORIES:Windham
ATTACH;FMTTYPE=image/jpeg:https://wylderhotels.com/wp-content/uploads/2025/03/one-cover_orig-1-1-1.jpg
END:VEVENT
END:VCALENDAR