BEGIN:VCALENDAR
VERSION:2.0
PRODID:-//Wylder Hotels - ECPv5.14.0.4//NONSGML v1.0//EN
CALSCALE:GREGORIAN
METHOD:PUBLISH
X-WR-CALNAME:Wylder Hotels
X-ORIGINAL-URL:https://wylderhotels.com
X-WR-CALDESC:Events for Wylder Hotels
REFRESH-INTERVAL;VALUE=DURATION:PT1H
X-Robots-Tag:noindex
X-PUBLISHED-TTL:PT1H
BEGIN:VTIMEZONE
TZID:America/Los_Angeles
BEGIN:DAYLIGHT
TZOFFSETFROM:-0800
TZOFFSETTO:-0700
TZNAME:PDT
DTSTART:20260308T100000
END:DAYLIGHT
BEGIN:STANDARD
TZOFFSETFROM:-0700
TZOFFSETTO:-0800
TZNAME:PST
DTSTART:20261101T090000
END:STANDARD
END:VTIMEZONE
BEGIN:VEVENT
DTSTART;TZID=America/Los_Angeles:20260228T093000
DTEND;TZID=America/Los_Angeles:20260228T100000
DTSTAMP:20260422T013658
CREATED:20251121T193440Z
LAST-MODIFIED:20251121T193440Z
UID:18643-1772271000-1772272800@wylderhotels.com
SUMMARY:Guided Meditation With Soundbath
DESCRIPTION:Reconnect\, reset\, and find your center in this guided meditation workshop led by Sarah Mirsini. Set in the peaceful surroundings of the mountains\, this immersive experience is designed to help you release stress\, ground your energy\, and cultivate inner calm. Whether you’re new to meditation or deepening your practice\, Sarah offers thoughtful guidance\, breathwork\, and mindfulness techniques to support your well-being—both on and off the mat.
URL:https://wylderhotels.com/event/guided-meditation-with-soundbath-11/
CATEGORIES:Windham
ATTACH;FMTTYPE=image/jpeg:https://wylderhotels.com/wp-content/uploads/2024/12/meditation_sun.jpg
END:VEVENT
BEGIN:VEVENT
DTSTART;TZID=America/Los_Angeles:20260228T180000
DTEND;TZID=America/Los_Angeles:20260228T210000
DTSTAMP:20260422T013658
CREATED:20251211T132850Z
LAST-MODIFIED:20251211T132850Z
UID:18697-1772301600-1772312400@wylderhotels.com
SUMMARY:Live Music W/ Peter & His Band Of Wolves
DESCRIPTION:A lifelong musician\, Peter built his following during his college years\, drawing sold-out crowds with his dynamic percussive acoustic style and captivating vocals
URL:https://wylderhotels.com/event/live-music-w-peter-his-band-of-wolves-4/
CATEGORIES:Windham
END:VEVENT
END:VCALENDAR