BEGIN:VCALENDAR
VERSION:2.0
PRODID:-//Wylder Hotels - ECPv5.14.0.4//NONSGML v1.0//EN
CALSCALE:GREGORIAN
METHOD:PUBLISH
X-WR-CALNAME:Wylder Hotels
X-ORIGINAL-URL:https://wylderhotels.com
X-WR-CALDESC:Events for Wylder Hotels
REFRESH-INTERVAL;VALUE=DURATION:PT1H
X-Robots-Tag:noindex
X-PUBLISHED-TTL:PT1H
BEGIN:VTIMEZONE
TZID:America/Los_Angeles
BEGIN:DAYLIGHT
TZOFFSETFROM:-0800
TZOFFSETTO:-0700
TZNAME:PDT
DTSTART:20260308T100000
END:DAYLIGHT
BEGIN:STANDARD
TZOFFSETFROM:-0700
TZOFFSETTO:-0800
TZNAME:PST
DTSTART:20261101T090000
END:STANDARD
END:VTIMEZONE
BEGIN:VEVENT
DTSTART;TZID=America/Los_Angeles:20260523T093000
DTEND;TZID=America/Los_Angeles:20260523T100000
DTSTAMP:20260424T091410
CREATED:20260330T194727Z
LAST-MODIFIED:20260330T194727Z
UID:19161-1779528600-1779530400@wylderhotels.com
SUMMARY:Guided Meditation With Soundbath W/ Becky Losito
DESCRIPTION:Becky is a meditation and yoga guide rooted in the natural rhythms of the northern Catskills\, where she grew up surrounded by forests and wide-open land. Her work is grounded\, intuitive\, and deeply connected to the body and breath. This 30-minute guided meditation is an invitation to slow down\, settle in\, and reconnect with yourself. The practice begins with gentle\, guided breathwork to calm the nervous system and bring the body into the present moment.
URL:https://wylderhotels.com/event/guided-meditation-with-soundbath-w-becky-losito/
CATEGORIES:Windham
ATTACH;FMTTYPE=image/jpeg:https://wylderhotels.com/wp-content/uploads/2025/11/beckylositoyoga-scaled.jpg
END:VEVENT
BEGIN:VEVENT
DTSTART;TZID=America/Los_Angeles:20260523T100000
DTEND;TZID=America/Los_Angeles:20260523T110000
DTSTAMP:20260424T091410
CREATED:20260221T222136Z
LAST-MODIFIED:20260221T222136Z
UID:19032-1779530400-1779534000@wylderhotels.com
SUMMARY:Pickleball Tournament at the Yard
DESCRIPTION:Join us for a Hosted Pickleball Tournament at the Yard with our instructor Cathy! \n  \nSignup at the front desk!
URL:https://wylderhotels.com/event/pickleball-tournament-at-the-yard/2026-05-23/
LOCATION:The Yard
CATEGORIES:Windham
ATTACH;FMTTYPE=image/jpeg:https://wylderhotels.com/wp-content/uploads/2024/02/PickleballCourts-scaled.jpg
END:VEVENT
BEGIN:VEVENT
DTSTART;TZID=America/Los_Angeles:20260523T120000
DTEND;TZID=America/Los_Angeles:20260523T160000
DTSTAMP:20260424T091410
CREATED:20260226T135253Z
LAST-MODIFIED:20260226T135253Z
UID:19040-1779537600-1779552000@wylderhotels.com
SUMMARY:Petting Zoo @ Wylder
DESCRIPTION:Come visit our petting zoo and get up close with friendly\, adorable animals. A fun\, hands-on experience for kids and families to enjoy together! \nLocation: The Yard
URL:https://wylderhotels.com/event/petting-zoo-wylder-2/
CATEGORIES:Windham
ATTACH;FMTTYPE=image/jpeg:https://wylderhotels.com/wp-content/uploads/2025/10/Petting-Zoo.jpg
END:VEVENT
BEGIN:VEVENT
DTSTART;TZID=America/Los_Angeles:20260523T130000
DTEND;TZID=America/Los_Angeles:20260523T133000
DTSTAMP:20260424T091410
CREATED:20260415T132524Z
LAST-MODIFIED:20260415T132524Z
UID:19207-1779541200-1779543000@wylderhotels.com
SUMMARY:Fourth Annual Pie Eating Contest
DESCRIPTION:Join us for Wylder’s 4th Annual Pie Eating Contest—a messy\, hilarious\, and highly anticipated tradition! Watch (or compete) as contestants race to finish their pies with no hands and no mercy. It’s all about fun\, laughter\, and a little friendly competition in true Wylder style. Don’t miss this crowd favorite event that’s as entertaining as it is delicious!
URL:https://wylderhotels.com/event/fourth-annual-pie-eating-contest/
CATEGORIES:Windham
ATTACH;FMTTYPE=image/jpeg:https://wylderhotels.com/wp-content/uploads/2023/05/Wylder_MaxFlatowPhoto-17-2-scaled.jpg
END:VEVENT
BEGIN:VEVENT
DTSTART;TZID=America/Los_Angeles:20260523T130000
DTEND;TZID=America/Los_Angeles:20260523T140000
DTSTAMP:20260424T091410
CREATED:20260411T190742Z
LAST-MODIFIED:20260411T190742Z
UID:19198-1779541200-1779544800@wylderhotels.com
SUMMARY:Cookie Decorating Workshop - Holiday Edition
DESCRIPTION:Get creative with icing and sprinkles at our cookie decorating event. Whether you’re a beginner or just looking for a fun activity\, you’ll leave with beautifully decorated (and delicious) cookies. Holiday Edition!! \n  \nAll materials are included \nMax sign up: 12 \nComplimentary to our in-house guests and Wyld Pass holders \nLocation: Babbler’s Bakery
URL:https://wylderhotels.com/event/cookie-decorating-workshop-holiday-edition/
CATEGORIES:Windham
ATTACH;FMTTYPE=image/jpeg:https://wylderhotels.com/wp-content/uploads/2024/05/4th-of-july-star-cookies-image-5.jpg
END:VEVENT
BEGIN:VEVENT
DTSTART;TZID=America/Los_Angeles:20260523T140000
DTEND;TZID=America/Los_Angeles:20260523T150000
DTSTAMP:20260424T091410
CREATED:20260415T132700Z
LAST-MODIFIED:20260415T132700Z
UID:19208-1779544800-1779548400@wylderhotels.com
SUMMARY:Tie-Dye Workshop
DESCRIPTION:Join us for a hands-on Tie-Dye Workshop at Wylder\, where creativity takes center stage! Guests of all ages can design their own vibrant\, one-of-a-kind pieces using a variety of colors and patterns. It’s a fun\, relaxed experience perfect for getting a little messy\, making memories\, and taking home a colorful keepsake from your stay.
URL:https://wylderhotels.com/event/tie-dye-workshop/
CATEGORIES:Windham
ATTACH;FMTTYPE=image/png:https://wylderhotels.com/wp-content/uploads/2024/03/Tie-Dye-Workshop.png
END:VEVENT
BEGIN:VEVENT
DTSTART;TZID=America/Los_Angeles:20260523T140000
DTEND;TZID=America/Los_Angeles:20260523T180000
DTSTAMP:20260424T091410
CREATED:20260415T132953Z
LAST-MODIFIED:20260415T132953Z
UID:19209-1779544800-1779559200@wylderhotels.com
SUMMARY:Simply Linked Jewelry Pop-Up
DESCRIPTION:Stop by the Main lodge Saturday 5/23/26 from 2-6pm and check out “Simply Linked” Permanent jewelry is a type of jewelry that is custom-fitted and welded together with a small jump ring\, creating a seamless\, clasp-free piece that lasts a lifetime. It can serve as a unique\, symbolic accessory and is a meaningful way to commemorate a special moment or occasion. This form of jewelry is often chosen to mark a memorable trip\, milestone\, or bond between loved ones\, serving as a constant reminder of that experience. Whether it’s a vacation\, anniversary\, or shared adventure\, permanent jewelry acts as a subtle yet enduring symbol of cherished memories that can be worn every day.
URL:https://wylderhotels.com/event/simply-linked-jewelry-pop-up/
CATEGORIES:Windham
ATTACH;FMTTYPE=image/jpeg:https://wylderhotels.com/wp-content/uploads/2026/04/IMG_2419.jpeg
END:VEVENT
BEGIN:VEVENT
DTSTART;TZID=America/Los_Angeles:20260523T170000
DTEND;TZID=America/Los_Angeles:20260523T190000
DTSTAMP:20260424T091410
CREATED:20260413T180647Z
LAST-MODIFIED:20260413T180647Z
UID:19199-1779555600-1779562800@wylderhotels.com
SUMMARY:Hatchet Throwing @ Killside
DESCRIPTION:Hudson Valley Hatchet: Mobile Axe Throwing offers a unique\, mobile axe-throwing experience that brings the excitement of hatchet throwing. on-site instructors who guide participants through proper throwing techniques\, ensuring both safety and fun. The activity is designed for all skill levels—whether you’re a first-timer or looking to sharpen your aim. A fun experience you will not want to miss.\n \nNo Sign up required
URL:https://wylderhotels.com/event/hatchet-throwing-killside-2/
CATEGORIES:Windham
ATTACH;FMTTYPE=image/jpeg:https://wylderhotels.com/wp-content/uploads/2025/07/hatchet.jpg
END:VEVENT
BEGIN:VEVENT
DTSTART;TZID=America/Los_Angeles:20260523T180000
DTEND;TZID=America/Los_Angeles:20260523T210000
DTSTAMP:20260424T091410
CREATED:20260415T133135Z
LAST-MODIFIED:20260415T133135Z
UID:19211-1779559200-1779570000@wylderhotels.com
SUMMARY:Live Music With Joseph James
DESCRIPTION:Joseph James (Vulpis)\, founding member of Joseph James Band\, is a seasoned musician raised in Oceanside and Syosset\, NY. With a career spanning performances in iconic LI and NYC venues\, he has toured\, produced\, and played alongside legends including Lady Gaga\, Bono\, Andrea Bocelli\, and Ritchie Blackmore. A prolific songwriter\, Joe also spent years on Nashville’s Music Row with notable country music credits.
URL:https://wylderhotels.com/event/live-music-with-joseph-james/
CATEGORIES:Windham
ATTACH;FMTTYPE=image/jpeg:https://wylderhotels.com/wp-content/uploads/2025/03/one-cover_orig-1-1-1.jpg
END:VEVENT
BEGIN:VEVENT
DTSTART;TZID=America/Los_Angeles:20260523T200000
DTEND;TZID=America/Los_Angeles:20260523T210000
DTSTAMP:20260424T091410
CREATED:20260326T160606Z
LAST-MODIFIED:20260326T160606Z
UID:19154-1779566400-1779570000@wylderhotels.com
SUMMARY:Magic On Main With Sean Doolan
DESCRIPTION:Prepare to be amazed as Sean Doolan brings his captivating magic show right to the heart of Wylder! With mind-bending illusions\, jaw-dropping sleight of hand\, and a touch of charm\, Sean’s performance is perfect for all ages. Whether you’re a magic enthusiast or just looking for a fun night out\, this show promises wonder\, laughter\, and unforgettable moments. \nPlease note: Maximum sign-up is 30 participants to ensure an intimate and engaging experience.
URL:https://wylderhotels.com/event/magic-on-main-with-sean-doolan-3/
CATEGORIES:Windham
ATTACH;FMTTYPE=image/jpeg:https://wylderhotels.com/wp-content/uploads/2025/06/magic.jpg
END:VEVENT
END:VCALENDAR