BEGIN:VCALENDAR
VERSION:2.0
PRODID:-//Wylder Hotels - ECPv5.14.0.4//NONSGML v1.0//EN
CALSCALE:GREGORIAN
METHOD:PUBLISH
X-WR-CALNAME:Wylder Hotels
X-ORIGINAL-URL:https://wylderhotels.com
X-WR-CALDESC:Events for Wylder Hotels
REFRESH-INTERVAL;VALUE=DURATION:PT1H
X-Robots-Tag:noindex
X-PUBLISHED-TTL:PT1H
BEGIN:VTIMEZONE
TZID:America/Los_Angeles
BEGIN:DAYLIGHT
TZOFFSETFROM:-0800
TZOFFSETTO:-0700
TZNAME:PDT
DTSTART:20260308T100000
END:DAYLIGHT
BEGIN:STANDARD
TZOFFSETFROM:-0700
TZOFFSETTO:-0800
TZNAME:PST
DTSTART:20261101T090000
END:STANDARD
END:VTIMEZONE
BEGIN:VEVENT
DTSTART;TZID=America/Los_Angeles:20260524T170000
DTEND;TZID=America/Los_Angeles:20260524T190000
DTSTAMP:20260425T150352
CREATED:20260413T180719Z
LAST-MODIFIED:20260413T180719Z
UID:19200-1779642000-1779649200@wylderhotels.com
SUMMARY:Hatchet Throwing @ Killside
DESCRIPTION:Hudson Valley Hatchet: Mobile Axe Throwing offers a unique\, mobile axe-throwing experience that brings the excitement of hatchet throwing. on-site instructors who guide participants through proper throwing techniques\, ensuring both safety and fun. The activity is designed for all skill levels—whether you’re a first-timer or looking to sharpen your aim. A fun experience you will not want to miss.\n \nNo Sign up required
URL:https://wylderhotels.com/event/hatchet-throwing-killside-5/
CATEGORIES:Windham
ATTACH;FMTTYPE=image/jpeg:https://wylderhotels.com/wp-content/uploads/2025/07/hatchet.jpg
END:VEVENT
BEGIN:VEVENT
DTSTART;TZID=America/Los_Angeles:20260524T180000
DTEND;TZID=America/Los_Angeles:20260524T210000
DTSTAMP:20260425T150352
CREATED:20260415T133427Z
LAST-MODIFIED:20260415T133427Z
UID:19213-1779645600-1779656400@wylderhotels.com
SUMMARY:Live Music With Joseph James & Friends
DESCRIPTION:Joseph James (Vulpis)\, founding member of Joseph James Band\, is a seasoned musician raised in Oceanside and Syosset\, NY. With a career spanning performances in iconic LI and NYC venues\, he has toured\, produced\, and played alongside legends including Lady Gaga\, Bono\, Andrea Bocelli\, and Ritchie Blackmore. A prolific songwriter\, Joe also spent years on Nashville’s Music Row with notable country music credits.
URL:https://wylderhotels.com/event/live-music-with-joseph-james-friends/
CATEGORIES:Windham
ATTACH;FMTTYPE=image/jpeg:https://wylderhotels.com/wp-content/uploads/2025/03/one-cover_orig-1-1-1.jpg
END:VEVENT
BEGIN:VEVENT
DTSTART;TZID=America/Los_Angeles:20260524T210000
DTEND;TZID=America/Los_Angeles:20260524T213000
DTSTAMP:20260425T150352
CREATED:20260312T122838Z
LAST-MODIFIED:20260312T122838Z
UID:19079-1779656400-1779658200@wylderhotels.com
SUMMARY:4th Annual Firework Show @ The Yard
DESCRIPTION:Celebrate Memorial Day Weekend at the 4th Annual Firework Show at the Yard! Gather with friends and family for a fun night of community\, great food\, and a spectacular fireworks display as we kick off the start of summer together.
URL:https://wylderhotels.com/event/4th-annual-firework-show-the-yard/
CATEGORIES:Windham
ATTACH;FMTTYPE=image/jpeg:https://wylderhotels.com/wp-content/uploads/2024/03/fireworks.jpg
END:VEVENT
BEGIN:VEVENT
DTSTART;TZID=America/Los_Angeles:20260606T093000
DTEND;TZID=America/Los_Angeles:20260606T100000
DTSTAMP:20260425T150352
CREATED:20260420T192706Z
LAST-MODIFIED:20260420T192706Z
UID:19236-1780738200-1780740000@wylderhotels.com
SUMMARY:Guided Meditation With Soundbath W/ Becky Losito
DESCRIPTION:Becky is a meditation and yoga guide rooted in the natural rhythms of the northern Catskills\, where she grew up surrounded by forests and wide-open land. Her work is grounded\, intuitive\, and deeply connected to the body and breath. This 30-minute guided meditation is an invitation to slow down\, settle in\, and reconnect with yourself. The practice begins with gentle\, guided breathwork to calm the nervous system and bring the body into the present moment.
URL:https://wylderhotels.com/event/guided-meditation-with-soundbath-w-becky-losito-2/
CATEGORIES:Windham
ATTACH;FMTTYPE=image/jpeg:https://wylderhotels.com/wp-content/uploads/2025/11/beckylositoyoga-scaled.jpg
END:VEVENT
BEGIN:VEVENT
DTSTART;TZID=America/Los_Angeles:20260607T090000
DTEND;TZID=America/Los_Angeles:20260607T100000
DTSTAMP:20260425T150352
CREATED:20260312T121728Z
LAST-MODIFIED:20260312T121728Z
UID:19075-1780822800-1780826400@wylderhotels.com
SUMMARY:Sunrise Yoga with Mary Fink Butler
DESCRIPTION:Spend your morning relaxing and rejuvenating with yoga at the Evergreen Hall from 9 am to 10 am with Mary Fink Butler! All levels welcome! \nComplimentary to all in-house guests and Wyld Pass holders.
URL:https://wylderhotels.com/event/sunrise-yoga-with-mary-fink-butler-6/2026-06-07/
CATEGORIES:Windham
ATTACH;FMTTYPE=image/jpeg:https://wylderhotels.com/wp-content/uploads/2024/08/20221203-Wylder16.jpg
END:VEVENT
BEGIN:VEVENT
DTSTART;TZID=America/Los_Angeles:20260620T093000
DTEND;TZID=America/Los_Angeles:20260620T100000
DTSTAMP:20260425T150352
CREATED:20260420T192737Z
LAST-MODIFIED:20260420T192737Z
UID:19237-1781947800-1781949600@wylderhotels.com
SUMMARY:Guided Meditation With Soundbath W/ Becky Losito
DESCRIPTION:Becky is a meditation and yoga guide rooted in the natural rhythms of the northern Catskills\, where she grew up surrounded by forests and wide-open land. Her work is grounded\, intuitive\, and deeply connected to the body and breath. This 30-minute guided meditation is an invitation to slow down\, settle in\, and reconnect with yourself. The practice begins with gentle\, guided breathwork to calm the nervous system and bring the body into the present moment.
URL:https://wylderhotels.com/event/guided-meditation-with-soundbath-w-becky-losito-3/
CATEGORIES:Windham
ATTACH;FMTTYPE=image/jpeg:https://wylderhotels.com/wp-content/uploads/2025/11/beckylositoyoga-scaled.jpg
END:VEVENT
BEGIN:VEVENT
DTSTART;TZID=America/Los_Angeles:20260906T210000
DTEND;TZID=America/Los_Angeles:20260906T213000
DTSTAMP:20260425T150352
CREATED:20260312T123256Z
LAST-MODIFIED:20260312T123256Z
UID:19080-1788728400-1788730200@wylderhotels.com
SUMMARY:4th Annual Firework Show @ The Yard
DESCRIPTION:Wrap up the summer at our Labor Day Firework Show at the Yard! Join us for a fun evening with friends\, family\, and an unforgettable fireworks display as we celebrate the holiday and send off summer in style.
URL:https://wylderhotels.com/event/4th-annual-firework-show-the-yard-2/
CATEGORIES:Windham
ATTACH;FMTTYPE=image/jpeg:https://wylderhotels.com/wp-content/uploads/2024/03/fireworks.jpg
END:VEVENT
END:VCALENDAR