BEGIN:VCALENDAR
VERSION:2.0
PRODID:-//Wylder Hotels - ECPv5.14.0.4//NONSGML v1.0//EN
CALSCALE:GREGORIAN
METHOD:PUBLISH
X-WR-CALNAME:Wylder Hotels
X-ORIGINAL-URL:https://wylderhotels.com
X-WR-CALDESC:Events for Wylder Hotels
REFRESH-INTERVAL;VALUE=DURATION:PT1H
X-Robots-Tag:noindex
X-PUBLISHED-TTL:PT1H
BEGIN:VTIMEZONE
TZID:America/Los_Angeles
BEGIN:DAYLIGHT
TZOFFSETFROM:-0800
TZOFFSETTO:-0700
TZNAME:PDT
DTSTART:20260308T100000
END:DAYLIGHT
BEGIN:STANDARD
TZOFFSETFROM:-0700
TZOFFSETTO:-0800
TZNAME:PST
DTSTART:20261101T090000
END:STANDARD
END:VTIMEZONE
BEGIN:VEVENT
DTSTART;TZID=America/Los_Angeles:20260124T190000
DTEND;TZID=America/Los_Angeles:20260124T200000
DTSTAMP:20260419T051832
CREATED:20251205T132517Z
LAST-MODIFIED:20251205T132517Z
UID:18676-1769281200-1769284800@wylderhotels.com
SUMMARY:Textured Paint & Sip W/ Handmade Haven
DESCRIPTION:Unleash your creativity in this unique Textured Paint & Sip experience with Handmade Haven! Enjoy a relaxing atmosphere where you can sip your favorite beverage while learning to create beautiful textured artwork step-by-step. Perfect for artists of all skill levels\, this hands-on workshop combines artistic fun with good company and plenty of inspiration. Come ready to paint\, sip\, and make something truly one-of-a-kind! \nComplimentary for our in-house guests and Wyld Pass holders.
URL:https://wylderhotels.com/event/textured-paint-sip-w-handmade-haven-11/
CATEGORIES:Windham
ATTACH;FMTTYPE=image/jpeg:https://wylderhotels.com/wp-content/uploads/2025/10/paint-and-sip.jpg
END:VEVENT
BEGIN:VEVENT
DTSTART;TZID=America/Los_Angeles:20260124T180000
DTEND;TZID=America/Los_Angeles:20260124T210000
DTSTAMP:20260419T051832
CREATED:20251211T132421Z
LAST-MODIFIED:20251211T132421Z
UID:18691-1769277600-1769288400@wylderhotels.com
SUMMARY:Live Music W/ Peter & His Band Of Wolves
DESCRIPTION:A lifelong musician\, Peter built his following during his college years\, drawing sold-out crowds with his dynamic percussive acoustic style and captivating vocals
URL:https://wylderhotels.com/event/live-music-w-peter-his-band-of-wolves-2/
CATEGORIES:Windham
END:VEVENT
BEGIN:VEVENT
DTSTART;TZID=America/Los_Angeles:20260124T170000
DTEND;TZID=America/Los_Angeles:20260124T183000
DTSTAMP:20260419T051832
CREATED:20251224T144131Z
LAST-MODIFIED:20251224T144131Z
UID:18941-1769274000-1769279400@wylderhotels.com
SUMMARY:Windham Mountain Forest Coaster Workshop W/ Stephani Dimopoulos
DESCRIPTION:Enjoy a cozy\, creative pause at the Wylder with this relaxed coaster-painting workshop\, gently guided by Stephani Dimopoulos of Dimos Intuitive Arts. Guests will paint a set of simple evergreen silhouettes onto round coasters\, using an easy winter palette inspired by the surrounding Catskill landscape. \nDesigned for all ages and all experience levels\, this workshop is a lovely way to unwind after time on the slopes or to enjoy a quiet afternoon of creativity. Each guest leaves with a set of hand-painted coasters—perfect for everyday use or as a thoughtful keepsake. \n  \nSpace Limited – Max: 12 Participants
URL:https://wylderhotels.com/event/windham-mountain-forest-coaster-workshop-w-stephani-dimopoulos/
CATEGORIES:Windham
ATTACH;FMTTYPE=image/jpeg:https://wylderhotels.com/wp-content/uploads/2025/12/Coasters.jpg
END:VEVENT
BEGIN:VEVENT
DTSTART;TZID=America/Los_Angeles:20260118T180000
DTEND;TZID=America/Los_Angeles:20260118T210000
DTSTAMP:20260419T051832
CREATED:20251211T132336Z
LAST-MODIFIED:20251211T132336Z
UID:18690-1768759200-1768770000@wylderhotels.com
SUMMARY:Live Music W/ Joseph James - Encore Performance
DESCRIPTION:Joseph James (Vulpis)\, founding member of Joseph James Band\, is a seasoned musician raised in Oceanside and Syosset\, NY. With a career spanning performances in iconic LI and NYC venues\, he has toured\, produced\, and played alongside legends including Lady Gaga\, Bono\, Andrea Bocelli\, and Ritchie Blackmore. A prolific songwriter\, Joe also spent years on Nashville’s Music Row with notable country music credits.
URL:https://wylderhotels.com/event/live-music-w-joseph-james-encore-performance/
CATEGORIES:Windham
ATTACH;FMTTYPE=image/jpeg:https://wylderhotels.com/wp-content/uploads/2025/03/one-cover_orig-1-1-1.jpg
END:VEVENT
BEGIN:VEVENT
DTSTART;TZID=America/Los_Angeles:20260118T160000
DTEND;TZID=America/Los_Angeles:20260118T190000
DTSTAMP:20260419T051832
CREATED:20251224T121754Z
LAST-MODIFIED:20251224T121754Z
UID:18928-1768752000-1768762800@wylderhotels.com
SUMMARY:Pop in\, Pop Out Shop Local: Cosmo Cowgirl Charm Bar
DESCRIPTION:Stop by the Main Lodge between 4PM-7PM and shop Cosmo Cowgirl\n\nCustom. Tarnish-Free. Affordable. We believe that tarnish-free\, charm jewelry should be accessible to everyone\, merging personal style with affordability.
URL:https://wylderhotels.com/event/pop-in-pop-out-shop-local-cosmo-cowgirl-charm-bar/
CATEGORIES:Windham
ATTACH;FMTTYPE=image/png:https://wylderhotels.com/wp-content/uploads/2025/08/thumbnail_cosmo-cowgirl-charm-bar-logo.png
END:VEVENT
BEGIN:VEVENT
DTSTART;TZID=America/Los_Angeles:20260118T160000
DTEND;TZID=America/Los_Angeles:20260118T190000
DTSTAMP:20260419T051832
CREATED:20251202T191343Z
LAST-MODIFIED:20260115T212356Z
UID:18665-1768752000-1768762800@wylderhotels.com
SUMMARY:Face Painting with The Art of Face Painting
DESCRIPTION:The Art of Face Painting offers customized face painting that blends fine art and craftsmanship to deliver unique\, fun designs. I use my background in design\, travel\, and exploring different cultures to create face painting inspired by art from around the world. Every design is created to stand out and mean something special—your face becomes its own canvas. \n  \nAdditional fees apply.
URL:https://wylderhotels.com/event/face-painting-with/
CATEGORIES:Windham
ATTACH;FMTTYPE=image/jpeg:https://wylderhotels.com/wp-content/uploads/2025/12/Space-cr-1.jpeg
END:VEVENT
END:VCALENDAR